BEGIN:VCALENDAR
VERSION:2.0
PRODID:-//eventon.com NONSGML v1.0//EN
BEGIN:VEVENT
UID:69e73587eb80f
DTSTAMP:20260421T102959
DTSTART:20251120T130000Z
DTEND:20251120T143000Z
TZID:Europe/Berlin
LOCATION:Online 
SUMMARY:Online-Seminar: Gründerwissen "Soziale Absicherung und Versicherungen" am 20. November 2025
DESCRIPTION: Welche Krankenversicherung und welche Altersvorsorge kommen für beruflich Selbstständige in Frage? Die Antwort darauf ist nicht nur für eure persönliche Absicherung\,  sondern auch für eure Finanz- und Liquiditätsplanung wichtig. Darüber hinaus müsst ihr notwendige betriebliche Versicherungen abschließen\,  um euch gegen Kosten durch Schäden im Betrieb oder auch durch Ansprüche Dritter[..]\nhttps://www.gruenderkueche.de/events/online-seminar-gruenderwissen-soziale-absicherung-und-versicherungen-am-20-november-2025/
URL:https://www.gruenderkueche.de/events/online-seminar-gruenderwissen-soziale-absicherung-und-versicherungen-am-20-november-2025/
END:VEVENT
END:VCALENDAR